Package: bioCancer Version: 1.32.0 Command: chmod a+r bioCancer -R && F:\biocbuild\bbs-3.19-bioc\R\bin\R.exe CMD build --keep-empty-dirs --no-resave-data bioCancer StartedAt: 2024-06-26 17:22:50 -0400 (Wed, 26 Jun 2024) EndedAt: 2024-06-26 17:24:30 -0400 (Wed, 26 Jun 2024) EllapsedTime: 100.2 seconds RetCode: 0 Status: OK PackageFile: bioCancer_1.32.0.tar.gz PackageFileSize: 9.456 MiB