Package: bioCancer Version: 1.32.0 Command: /Library/Frameworks/R.framework/Resources/bin/R CMD build --keep-empty-dirs --no-resave-data bioCancer StartedAt: 2024-10-16 17:23:45 -0400 (Wed, 16 Oct 2024) EndedAt: 2024-10-16 17:26:00 -0400 (Wed, 16 Oct 2024) EllapsedTime: 134.9 seconds RetCode: 0 Status: OK PackageFile: bioCancer_1.32.0.tar.gz PackageFileSize: 9.457 MiB