Package: bioCancer Version: 1.32.0 Command: /home/biocbuild/R/R-beta-2024-04-15_r86425/bin/R CMD build --keep-empty-dirs --no-resave-data bioCancer StartedAt: 2024-05-08 22:43:01 -0000 (Wed, 08 May 2024) EndedAt: 2024-05-08 22:44:15 -0000 (Wed, 08 May 2024) EllapsedTime: 74.1 seconds RetCode: 0 Status: OK PackageFile: bioCancer_1.32.0.tar.gz PackageFileSize: 9.459 MiB