Package: bigmelon Version: 1.30.0 Command: E:\biocbuild\bbs-3.19-bioc\R\bin\R.exe CMD INSTALL bigmelon StartedAt: 2024-10-16 17:22:49 -0400 (Wed, 16 Oct 2024) EndedAt: 2024-10-16 17:24:06 -0400 (Wed, 16 Oct 2024) EllapsedTime: 77.3 seconds RetCode: 0 Status: OK