Package: bigmelon Version: 1.30.0 Command: E:\biocbuild\bbs-3.19-bioc\R\bin\R.exe CMD check --no-multiarch --install=check:bigmelon.install-out.txt --library=E:\biocbuild\bbs-3.19-bioc\R\library --no-vignettes --timings bigmelon_1.30.0.tar.gz StartedAt: 2024-10-16 23:10:20 -0400 (Wed, 16 Oct 2024) EndedAt: 2024-10-16 23:22:21 -0400 (Wed, 16 Oct 2024) EllapsedTime: 721.5 seconds RetCode: 0 Status: WARNINGS CheckDir: bigmelon.Rcheck Warnings: 3