Package: bigmelon Version: 1.30.0 Command: rm -rf bigmelon.buildbin-libdir && mkdir bigmelon.buildbin-libdir && E:\biocbuild\bbs-3.19-bioc\R\bin\R.exe CMD INSTALL --build --library=bigmelon.buildbin-libdir bigmelon_1.30.0.tar.gz StartedAt: 2024-10-17 07:23:51 -0400 (Thu, 17 Oct 2024) EndedAt: 2024-10-17 07:25:26 -0400 (Thu, 17 Oct 2024) EllapsedTime: 94.9 seconds RetCode: 0 Status: OK PackageFile: bigmelon_1.30.0.zip PackageFileSize: 1.187 MiB