############################################################################## ############################################################################## ### ### Running command: ### ### F:\biocbuild\bbs-3.19-bioc\R\bin\R.exe CMD INSTALL bigmelon ### ############################################################################## ############################################################################## * installing to library 'F:/biocbuild/bbs-3.19-bioc/R/library' * installing *source* package 'bigmelon' ... ** using staged installation ** R ** data ** inst ** byte-compile and prepare package for lazy loading No methods found in package 'RSQLite' for request: 'dbListFields' when loading 'lumi' Warning message: package 'locfit' was built under R version 4.4.1 Creating a new generic function for 'fot' in package 'bigmelon' ** help *** installing help indices ** building package indices ** installing vignettes ** testing if installed package can be loaded from temporary location Warning: package 'locfit' was built under R version 4.4.1 No methods found in package 'RSQLite' for request: 'dbListFields' when loading 'lumi' ** testing if installed package can be loaded from final location Warning: package 'locfit' was built under R version 4.4.1 No methods found in package 'RSQLite' for request: 'dbListFields' when loading 'lumi' ** testing if installed package keeps a record of temporary installation path * DONE (bigmelon)