Package: bigmelon Version: 1.30.0 Command: /Library/Frameworks/R.framework/Resources/bin/R CMD check --install=check:bigmelon.install-out.txt --library=/Library/Frameworks/R.framework/Resources/library --no-vignettes --timings bigmelon_1.30.0.tar.gz StartedAt: 2024-10-17 01:37:25 -0400 (Thu, 17 Oct 2024) EndedAt: 2024-10-17 01:55:12 -0400 (Thu, 17 Oct 2024) EllapsedTime: 1067.1 seconds RetCode: 0 Status: WARNINGS CheckDir: bigmelon.Rcheck Warnings: 3