Package: bigmelon Version: 1.30.0 Command: /Library/Frameworks/R.framework/Resources/bin/R CMD build --keep-empty-dirs --no-resave-data bigmelon StartedAt: 2024-10-16 17:22:33 -0400 (Wed, 16 Oct 2024) EndedAt: 2024-10-16 17:25:42 -0400 (Wed, 16 Oct 2024) EllapsedTime: 188.6 seconds RetCode: 0 Status: OK PackageFile: bigmelon_1.30.0.tar.gz PackageFileSize: 900.7 KiB