Package: bigmelon Version: 1.30.0 Command: rm -rf bigmelon.buildbin-libdir && mkdir bigmelon.buildbin-libdir && /Users/biocbuild/BBS/utils/build-universal.sh bigmelon_1.30.0.tar.gz /Library/Frameworks/R.framework/Resources/bin/R bigmelon.buildbin-libdir StartedAt: 2024-10-17 15:42:22 -0400 (Thu, 17 Oct 2024) EndedAt: 2024-10-17 15:44:30 -0400 (Thu, 17 Oct 2024) EllapsedTime: 128.6 seconds RetCode: 0 Status: OK PackageFile: bigmelon_1.30.0.tgz PackageFileSize: 1.182 MiB