Package: bigmelon Version: 1.30.0 Command: /Library/Frameworks/R.framework/Resources/bin/R CMD INSTALL bigmelon StartedAt: 2024-06-09 15:44:29 -0400 (Sun, 09 Jun 2024) EndedAt: 2024-06-09 15:45:20 -0400 (Sun, 09 Jun 2024) EllapsedTime: 50.6 seconds RetCode: 0 Status: OK