Package: bgx Version: 1.70.0 Command: F:\biocbuild\bbs-3.19-bioc\R\bin\R.exe CMD check --no-multiarch --install=check:bgx.install-out.txt --library=F:\biocbuild\bbs-3.19-bioc\R\library --no-vignettes --timings bgx_1.70.0.tar.gz StartedAt: 2024-06-26 23:17:14 -0400 (Wed, 26 Jun 2024) EndedAt: 2024-06-26 23:20:45 -0400 (Wed, 26 Jun 2024) EllapsedTime: 211.2 seconds RetCode: 0 Status: OK CheckDir: bgx.Rcheck Warnings: 0