Package: bgx Version: 1.70.0 Command: rm -rf bgx.buildbin-libdir && mkdir bgx.buildbin-libdir && F:\biocbuild\bbs-3.19-bioc\R\bin\R.exe CMD INSTALL --build --library=bgx.buildbin-libdir bgx_1.70.0.tar.gz StartedAt: 2024-06-27 07:52:56 -0400 (Thu, 27 Jun 2024) EndedAt: 2024-06-27 07:54:03 -0400 (Thu, 27 Jun 2024) EllapsedTime: 67.7 seconds RetCode: 0 Status: OK PackageFile: bgx_1.70.0.zip PackageFileSize: 536.6 KiB