Package: bgx Version: 1.70.0 Command: /home/biocbuild/bbs-3.19-bioc/R/bin/R CMD check --install=check:bgx.install-out.txt --library=/home/biocbuild/bbs-3.19-bioc/R/site-library --timings bgx_1.70.0.tar.gz StartedAt: 2024-10-16 21:58:40 -0400 (Wed, 16 Oct 2024) EndedAt: 2024-10-16 22:00:28 -0400 (Wed, 16 Oct 2024) EllapsedTime: 108.2 seconds RetCode: 0 Status: OK CheckDir: bgx.Rcheck Warnings: 0