Package: bettr Version: 1.0.0 Command: chmod a+r bettr -R && E:\biocbuild\bbs-3.19-bioc\R\bin\R.exe CMD build --keep-empty-dirs --no-resave-data bettr StartedAt: 2024-10-16 17:44:19 -0400 (Wed, 16 Oct 2024) EndedAt: 2024-10-16 17:45:19 -0400 (Wed, 16 Oct 2024) EllapsedTime: 59.6 seconds RetCode: 0 Status: OK PackageFile: bettr_1.0.0.tar.gz PackageFileSize: 2.363 MiB