Package: bettr Version: 1.0.0 Command: /Library/Frameworks/R.framework/Resources/bin/R CMD INSTALL bettr StartedAt: 2024-10-16 16:04:34 -0400 (Wed, 16 Oct 2024) EndedAt: 2024-10-16 16:05:34 -0400 (Wed, 16 Oct 2024) EllapsedTime: 59.8 seconds RetCode: 0 Status: OK