Package: betaHMM Version: 1.0.0 Command: E:\biocbuild\bbs-3.19-bioc\R\bin\R.exe CMD INSTALL betaHMM StartedAt: 2024-10-16 16:20:40 -0400 (Wed, 16 Oct 2024) EndedAt: 2024-10-16 16:21:19 -0400 (Wed, 16 Oct 2024) EllapsedTime: 39.0 seconds RetCode: 0 Status: OK