Package: betaHMM Version: 1.0.0 Command: E:\biocbuild\bbs-3.19-bioc\R\bin\R.exe CMD check --no-multiarch --install=check:betaHMM.install-out.txt --library=E:\biocbuild\bbs-3.19-bioc\R\library --no-vignettes --timings betaHMM_1.0.0.tar.gz StartedAt: 2024-10-16 23:08:21 -0400 (Wed, 16 Oct 2024) EndedAt: 2024-10-16 23:23:43 -0400 (Wed, 16 Oct 2024) EllapsedTime: 922.1 seconds RetCode: 0 Status: OK CheckDir: betaHMM.Rcheck Warnings: 0