Package: betaHMM Version: 1.0.0 Command: chmod a+r betaHMM -R && E:\biocbuild\bbs-3.19-bioc\R\bin\R.exe CMD build --keep-empty-dirs --no-resave-data betaHMM StartedAt: 2024-10-16 17:44:17 -0400 (Wed, 16 Oct 2024) EndedAt: 2024-10-16 17:51:24 -0400 (Wed, 16 Oct 2024) EllapsedTime: 426.7 seconds RetCode: 0 Status: OK PackageFile: betaHMM_1.0.0.tar.gz PackageFileSize: 3.447 MiB