Package: betaHMM Version: 1.0.0 Command: rm -rf betaHMM.buildbin-libdir && mkdir betaHMM.buildbin-libdir && E:\biocbuild\bbs-3.19-bioc\R\bin\R.exe CMD INSTALL --build --library=betaHMM.buildbin-libdir betaHMM_1.0.0.tar.gz StartedAt: 2024-10-17 07:23:34 -0400 (Thu, 17 Oct 2024) EndedAt: 2024-10-17 07:24:20 -0400 (Thu, 17 Oct 2024) EllapsedTime: 46.2 seconds RetCode: 0 Status: OK PackageFile: betaHMM_1.0.0.zip PackageFileSize: 3.536 MiB