Package: betaHMM Version: 1.0.0 Command: /home/biocbuild/bbs-3.19-bioc/R/bin/R CMD check --install=check:betaHMM.install-out.txt --library=/home/biocbuild/bbs-3.19-bioc/R/site-library --timings betaHMM_1.0.0.tar.gz StartedAt: 2024-10-16 21:56:41 -0400 (Wed, 16 Oct 2024) EndedAt: 2024-10-16 22:09:13 -0400 (Wed, 16 Oct 2024) EllapsedTime: 752.6 seconds RetCode: 0 Status: OK CheckDir: betaHMM.Rcheck Warnings: 0