Package: betaHMM Version: 1.0.0 Command: /home/biocbuild/bbs-3.19-bioc/R/bin/R CMD build --keep-empty-dirs --no-resave-data betaHMM StartedAt: 2024-10-16 17:08:29 -0400 (Wed, 16 Oct 2024) EndedAt: 2024-10-16 17:12:54 -0400 (Wed, 16 Oct 2024) EllapsedTime: 264.4 seconds RetCode: 0 Status: OK PackageFile: betaHMM_1.0.0.tar.gz PackageFileSize: 3.747 MiB