Package: betaHMM Version: 1.0.0 Command: rm -rf betaHMM.buildbin-libdir && mkdir betaHMM.buildbin-libdir && /Users/biocbuild/BBS/utils/build-universal.sh betaHMM_1.0.0.tar.gz /Library/Frameworks/R.framework/Resources/bin/R betaHMM.buildbin-libdir StartedAt: 2024-06-11 10:16:30 -0400 (Tue, 11 Jun 2024) EndedAt: 2024-06-11 10:17:28 -0400 (Tue, 11 Jun 2024) EllapsedTime: 57.4 seconds RetCode: 0 Status: OK PackageFile: betaHMM_1.0.0.tgz PackageFileSize: 3.921 MiB