Package: betaHMM Version: 1.0.0 Command: /Library/Frameworks/R.framework/Resources/bin/R CMD check --install=check:betaHMM.install-out.txt --library=/Library/Frameworks/R.framework/Resources/library --no-vignettes --timings betaHMM_1.0.0.tar.gz StartedAt: 2024-10-17 13:29:36 -0400 (Thu, 17 Oct 2024) EndedAt: 2024-10-17 13:41:53 -0400 (Thu, 17 Oct 2024) EllapsedTime: 737.0 seconds RetCode: 0 Status: OK CheckDir: betaHMM.Rcheck Warnings: 0