Package: betaHMM Version: 1.0.0 Command: /Library/Frameworks/R.framework/Resources/bin/R CMD build --keep-empty-dirs --no-resave-data betaHMM StartedAt: 2024-10-16 20:05:04 -0400 (Wed, 16 Oct 2024) EndedAt: 2024-10-16 20:10:32 -0400 (Wed, 16 Oct 2024) EllapsedTime: 327.4 seconds RetCode: 0 Status: OK PackageFile: betaHMM_1.0.0.tar.gz PackageFileSize: 3.835 MiB