Package: benchdamic Version: 1.10.1 Command: /home/biocbuild/bbs-3.19-bioc/R/bin/R CMD check --install=check:benchdamic.install-out.txt --library=/home/biocbuild/bbs-3.19-bioc/R/site-library --timings benchdamic_1.10.1.tar.gz StartedAt: 2024-10-16 21:55:40 -0400 (Wed, 16 Oct 2024) EndedAt: 2024-10-16 22:29:50 -0400 (Wed, 16 Oct 2024) EllapsedTime: 2050.5 seconds RetCode: 0 Status: OK CheckDir: benchdamic.Rcheck Warnings: 0