Package: benchdamic Version: 1.10.1 Command: /home/biocbuild/bbs-3.19-bioc/R/bin/R CMD build --keep-empty-dirs --no-resave-data benchdamic StartedAt: 2024-10-16 17:08:22 -0400 (Wed, 16 Oct 2024) EndedAt: 2024-10-16 17:30:31 -0400 (Wed, 16 Oct 2024) EllapsedTime: 1329.2 seconds RetCode: 0 Status: OK PackageFile: benchdamic_1.10.1.tar.gz PackageFileSize: 4.394 MiB