Package: benchdamic Version: 1.10.1 Command: rm -rf benchdamic.buildbin-libdir && mkdir benchdamic.buildbin-libdir && /Users/biocbuild/BBS/utils/build-universal.sh benchdamic_1.10.1.tar.gz /Library/Frameworks/R.framework/Resources/bin/R benchdamic.buildbin-libdir StartedAt: 2024-10-18 17:27:11 -0400 (Fri, 18 Oct 2024) EndedAt: 2024-10-18 17:29:02 -0400 (Fri, 18 Oct 2024) EllapsedTime: 110.9 seconds RetCode: 0 Status: OK PackageFile: benchdamic_1.10.1.tgz PackageFileSize: 5.762 MiB