Package: beer Version: 1.8.0 Command: E:\biocbuild\bbs-3.19-bioc\R\bin\R.exe CMD INSTALL beer StartedAt: 2024-10-16 16:37:28 -0400 (Wed, 16 Oct 2024) EndedAt: 2024-10-16 16:38:02 -0400 (Wed, 16 Oct 2024) EllapsedTime: 34.0 seconds RetCode: 0 Status: OK