Package: beadarraySNP Version: 1.70.0 Command: E:\biocbuild\bbs-3.19-bioc\R\bin\R.exe CMD INSTALL beadarraySNP StartedAt: 2024-10-16 17:02:15 -0400 (Wed, 16 Oct 2024) EndedAt: 2024-10-16 17:02:51 -0400 (Wed, 16 Oct 2024) EllapsedTime: 35.6 seconds RetCode: 0 Status: OK