Package: beadarraySNP Version: 1.70.0 Command: chmod a+r beadarraySNP -R && E:\biocbuild\bbs-3.19-bioc\R\bin\R.exe CMD build --keep-empty-dirs --no-resave-data beadarraySNP StartedAt: 2024-10-16 17:42:42 -0400 (Wed, 16 Oct 2024) EndedAt: 2024-10-16 17:43:15 -0400 (Wed, 16 Oct 2024) EllapsedTime: 33.4 seconds RetCode: 0 Status: OK PackageFile: beadarraySNP_1.70.0.tar.gz PackageFileSize: 571.6 KiB