Package: beadarraySNP Version: 1.70.0 Command: /home/biocbuild/bbs-3.19-bioc/R/bin/R CMD check --install=check:beadarraySNP.install-out.txt --library=/home/biocbuild/bbs-3.19-bioc/R/site-library --timings beadarraySNP_1.70.0.tar.gz StartedAt: 2024-10-16 21:55:16 -0400 (Wed, 16 Oct 2024) EndedAt: 2024-10-16 21:55:21 -0400 (Wed, 16 Oct 2024) EllapsedTime: 5.0 seconds RetCode: 1 Status: ERROR CheckDir: beadarraySNP.Rcheck Warnings: NA