Package: beadarraySNP Version: 1.70.0 Command: /Library/Frameworks/R.framework/Resources/bin/R CMD build --keep-empty-dirs --no-resave-data beadarraySNP StartedAt: 2024-10-16 17:16:22 -0400 (Wed, 16 Oct 2024) EndedAt: 2024-10-16 17:17:23 -0400 (Wed, 16 Oct 2024) EllapsedTime: 60.9 seconds RetCode: 0 Status: OK PackageFile: beadarraySNP_1.70.0.tar.gz PackageFileSize: 666.8 KiB