Package: beadarray Version: 2.54.0 Command: E:\biocbuild\bbs-3.19-bioc\R\bin\R.exe CMD INSTALL beadarray StartedAt: 2024-10-16 16:25:36 -0400 (Wed, 16 Oct 2024) EndedAt: 2024-10-16 16:26:44 -0400 (Wed, 16 Oct 2024) EllapsedTime: 67.0 seconds RetCode: 0 Status: OK