Package: beadarray Version: 2.54.0 Command: E:\biocbuild\bbs-3.19-bioc\R\bin\R.exe CMD check --no-multiarch --install=check:beadarray.install-out.txt --library=E:\biocbuild\bbs-3.19-bioc\R\library --no-vignettes --timings beadarray_2.54.0.tar.gz StartedAt: 2024-10-16 23:07:09 -0400 (Wed, 16 Oct 2024) EndedAt: 2024-10-16 23:16:28 -0400 (Wed, 16 Oct 2024) EllapsedTime: 559.5 seconds RetCode: 0 Status: OK CheckDir: beadarray.Rcheck Warnings: 0