Package: beadarray Version: 2.54.0 Command: chmod a+r beadarray -R && E:\biocbuild\bbs-3.19-bioc\R\bin\R.exe CMD build --keep-empty-dirs --no-resave-data beadarray StartedAt: 2024-10-16 17:42:41 -0400 (Wed, 16 Oct 2024) EndedAt: 2024-10-16 17:47:33 -0400 (Wed, 16 Oct 2024) EllapsedTime: 291.6 seconds RetCode: 0 Status: OK PackageFile: beadarray_2.54.0.tar.gz PackageFileSize: 2.17 MiB