Package: beadarray Version: 2.54.0 Command: F:\biocbuild\bbs-3.19-bioc\R\bin\R.exe CMD check --no-multiarch --install=check:beadarray.install-out.txt --library=F:\biocbuild\bbs-3.19-bioc\R\library --no-vignettes --timings beadarray_2.54.0.tar.gz StartedAt: 2024-06-26 23:14:14 -0400 (Wed, 26 Jun 2024) EndedAt: 2024-06-26 23:24:34 -0400 (Wed, 26 Jun 2024) EllapsedTime: 620.3 seconds RetCode: 0 Status: OK CheckDir: beadarray.Rcheck Warnings: 0