Package: beadarray Version: 2.54.0 Command: chmod a+r beadarray -R && F:\biocbuild\bbs-3.19-bioc\R\bin\R.exe CMD build --keep-empty-dirs --no-resave-data beadarray StartedAt: 2024-06-26 17:16:16 -0400 (Wed, 26 Jun 2024) EndedAt: 2024-06-26 17:21:54 -0400 (Wed, 26 Jun 2024) EllapsedTime: 338.4 seconds RetCode: 0 Status: OK PackageFile: beadarray_2.54.0.tar.gz PackageFileSize: 2.169 MiB