Package: beadarray Version: 2.54.0 Command: rm -rf beadarray.buildbin-libdir && mkdir beadarray.buildbin-libdir && F:\biocbuild\bbs-3.19-bioc\R\bin\R.exe CMD INSTALL --build --library=beadarray.buildbin-libdir beadarray_2.54.0.tar.gz StartedAt: 2024-06-27 07:52:12 -0400 (Thu, 27 Jun 2024) EndedAt: 2024-06-27 07:53:06 -0400 (Thu, 27 Jun 2024) EllapsedTime: 54.8 seconds RetCode: 0 Status: OK PackageFile: beadarray_2.54.0.zip PackageFileSize: 4.326 MiB