Package: beadarray Version: 2.54.0 Command: /home/biocbuild/bbs-3.19-bioc/R/bin/R CMD INSTALL beadarray StartedAt: 2024-10-16 16:07:12 -0400 (Wed, 16 Oct 2024) EndedAt: 2024-10-16 16:07:37 -0400 (Wed, 16 Oct 2024) EllapsedTime: 24.7 seconds RetCode: 0 Status: OK