Package: beadarray Version: 2.54.0 Command: /home/biocbuild/bbs-3.19-bioc/R/bin/R CMD build --keep-empty-dirs --no-resave-data beadarray StartedAt: 2024-10-16 17:06:11 -0400 (Wed, 16 Oct 2024) EndedAt: 2024-10-16 17:08:29 -0400 (Wed, 16 Oct 2024) EllapsedTime: 138.2 seconds RetCode: 0 Status: OK PackageFile: beadarray_2.54.0.tar.gz PackageFileSize: 2.339 MiB