Package: beadarray Version: 2.54.0 Command: /Library/Frameworks/R.framework/Resources/bin/R CMD check --install=check:beadarray.install-out.txt --library=/Library/Frameworks/R.framework/Resources/library --no-vignettes --timings beadarray_2.54.0.tar.gz StartedAt: 2024-10-17 01:31:17 -0400 (Thu, 17 Oct 2024) EndedAt: 2024-10-17 01:45:41 -0400 (Thu, 17 Oct 2024) EllapsedTime: 864.1 seconds RetCode: 0 Status: OK CheckDir: beadarray.Rcheck Warnings: 0