Package: beadarray Version: 2.54.0 Command: /Library/Frameworks/R.framework/Resources/bin/R CMD check --install=check:beadarray.install-out.txt --library=/Library/Frameworks/R.framework/Resources/library --no-vignettes --timings beadarray_2.54.0.tar.gz StartedAt: 2024-05-26 19:32:50 -0400 (Sun, 26 May 2024) EndedAt: 2024-05-26 19:39:56 -0400 (Sun, 26 May 2024) EllapsedTime: 425.8 seconds RetCode: 0 Status: OK CheckDir: beadarray.Rcheck Warnings: 0