Package: beadarray Version: 2.54.0 Command: rm -rf beadarray.buildbin-libdir && mkdir beadarray.buildbin-libdir && /Users/biocbuild/BBS/utils/build-universal.sh beadarray_2.54.0.tar.gz /Library/Frameworks/R.framework/Resources/bin/R beadarray.buildbin-libdir StartedAt: 2024-05-27 01:24:55 -0400 (Mon, 27 May 2024) EndedAt: 2024-05-27 01:25:38 -0400 (Mon, 27 May 2024) EllapsedTime: 43.5 seconds RetCode: 0 Status: OK PackageFile: beadarray_2.54.0.tgz PackageFileSize: 4.753 MiB