Package: beadarray Version: 2.54.0 Command: /home/biocbuild/R/R-beta-2024-04-15_r86425/bin/R CMD build --keep-empty-dirs --no-resave-data beadarray StartedAt: 2024-05-08 22:35:05 -0000 (Wed, 08 May 2024) EndedAt: 2024-05-08 22:38:34 -0000 (Wed, 08 May 2024) EllapsedTime: 209.3 seconds RetCode: 0 Status: OK PackageFile: beadarray_2.54.0.tar.gz PackageFileSize: 2.221 MiB