Package: beachmat Version: 2.20.0 Command: rm -rf beachmat.buildbin-libdir && mkdir beachmat.buildbin-libdir && E:\biocbuild\bbs-3.19-bioc\R\bin\R.exe CMD INSTALL --build --library=beachmat.buildbin-libdir beachmat_2.20.0.tar.gz StartedAt: 2024-10-17 07:22:52 -0400 (Thu, 17 Oct 2024) EndedAt: 2024-10-17 07:28:54 -0400 (Thu, 17 Oct 2024) EllapsedTime: 361.9 seconds RetCode: 0 Status: OK PackageFile: beachmat_2.20.0.zip PackageFileSize: 1.989 MiB