Package: beachmat Version: 2.20.0 Command: F:\biocbuild\bbs-3.19-bioc\R\bin\R.exe CMD check --no-multiarch --install=check:beachmat.install-out.txt --library=F:\biocbuild\bbs-3.19-bioc\R\library --no-vignettes --timings beachmat_2.20.0.tar.gz StartedAt: 2024-06-26 23:13:37 -0400 (Wed, 26 Jun 2024) EndedAt: 2024-06-26 23:23:57 -0400 (Wed, 26 Jun 2024) EllapsedTime: 620.0 seconds RetCode: 0 Status: OK CheckDir: beachmat.Rcheck Warnings: 0