Package: beachmat Version: 2.20.0 Command: rm -rf beachmat.buildbin-libdir && mkdir beachmat.buildbin-libdir && F:\biocbuild\bbs-3.19-bioc\R\bin\R.exe CMD INSTALL --build --library=beachmat.buildbin-libdir beachmat_2.20.0.tar.gz StartedAt: 2024-06-27 07:52:08 -0400 (Thu, 27 Jun 2024) EndedAt: 2024-06-27 07:58:19 -0400 (Thu, 27 Jun 2024) EllapsedTime: 370.9 seconds RetCode: 0 Status: OK PackageFile: beachmat_2.20.0.zip PackageFileSize: 1.991 MiB