Package: beachmat Version: 2.20.0 Command: /Library/Frameworks/R.framework/Resources/bin/R CMD check --install=check:beachmat.install-out.txt --library=/Library/Frameworks/R.framework/Resources/library --no-vignettes --timings beachmat_2.20.0.tar.gz StartedAt: 2024-10-17 01:30:01 -0400 (Thu, 17 Oct 2024) EndedAt: 2024-10-17 01:51:07 -0400 (Thu, 17 Oct 2024) EllapsedTime: 1265.7 seconds RetCode: 0 Status: OK CheckDir: beachmat.Rcheck Warnings: 0