Package: beachmat Version: 2.20.0 Command: /Library/Frameworks/R.framework/Resources/bin/R CMD build --keep-empty-dirs --no-resave-data beachmat StartedAt: 2024-10-16 17:15:38 -0400 (Wed, 16 Oct 2024) EndedAt: 2024-10-16 17:25:58 -0400 (Wed, 16 Oct 2024) EllapsedTime: 620.2 seconds RetCode: 0 Status: OK PackageFile: beachmat_2.20.0.tar.gz PackageFileSize: 500.1 KiB